BEGIN:VCALENDAR
PRODID:-//github.com/rianjs/ical.net//NONSGML ical.net 4.0//EN
VERSION:2.0
BEGIN:VTIMEZONE
TZID:Eastern Standard Time
X-LIC-LOCATION:America/New_York
BEGIN:STANDARD
DTSTART:20241103T020000
RRULE:FREQ=YEARLY;BYDAY=1SU;BYMONTH=11
TZNAME:EST
TZOFFSETFROM:-0400
TZOFFSETTO:-0500
END:STANDARD
BEGIN:DAYLIGHT
DTSTART:20250309T020000
RRULE:FREQ=YEARLY;BYDAY=2SU;BYMONTH=3
TZNAME:EDT
TZOFFSETFROM:-0500
TZOFFSETTO:-0400
END:DAYLIGHT
END:VTIMEZONE
BEGIN:VEVENT
DESCRIPTION:On event day join us here - https://www.biaofsc.com/wrr-2026\n
 \n
DTEND;TZID=Eastern Standard Time:20260322T170000
DTSTAMP:20260419T095515Z
DTSTART;TZID=Eastern Standard Time:20260322T140000
LOCATION:https://www.biaofsc.com/wrr-2026
ORGANIZER;CN=;SENT-BY="mailto:":
SEQUENCE:0
SUMMARY:SCCHWA: Walk\, Run & Roll for Brain Injury Awareness
UID:8d0b8801-5b66-4dc2-b86d-1e04305869fa
END:VEVENT
END:VCALENDAR
