BEGIN:VCALENDAR
PRODID:-//github.com/rianjs/ical.net//NONSGML ical.net 4.0//EN
VERSION:2.0
BEGIN:VTIMEZONE
TZID:Eastern Standard Time
X-LIC-LOCATION:America/New_York
BEGIN:STANDARD
DTSTART:20241103T020000
RRULE:FREQ=YEARLY;BYDAY=1SU;BYMONTH=11
TZNAME:EST
TZOFFSETFROM:-0400
TZOFFSETTO:-0500
END:STANDARD
BEGIN:DAYLIGHT
DTSTART:20250309T020000
RRULE:FREQ=YEARLY;BYDAY=2SU;BYMONTH=3
TZNAME:EDT
TZOFFSETFROM:-0500
TZOFFSETTO:-0400
END:DAYLIGHT
END:VTIMEZONE
BEGIN:VEVENT
DESCRIPTION:On event day join us here - https://events.gcc.teams.microsoft
 .com/event/0f292419-007f-4381-9abd-57552cb8d7b7@3326c488-7e33-421b-8f59-0
 9a39c26bbaa?utm_source=SCORH+Rural+Focus+Newsletter&utm_campaign=ffac3c5d
 99-EMAIL_CAMPAIGN_2019_11_29_COPY_01&utm_medium=email&utm_term=0_5068cbfe
 cc-ffac3c5d99-354709626&mc_cid=ffac3c5d99&mc_eid=7c8785d335\n\n
DTEND;TZID=Eastern Standard Time:20260506T160000
DTSTAMP:20260423T055919Z
DTSTART;TZID=Eastern Standard Time:20260506T120000
LOCATION:https://events.gcc.teams.microsoft.com/event/0f292419-007f-4381-9
 abd-57552cb8d7b7@3326c488-7e33-421b-8f59-09a39c26bbaa?utm_source=SCORH+Ru
 ral+Focus+Newsletter&utm_campaign=ffac3c5d99-EMAIL_CAMPAIGN_2019_11_29_CO
 PY_01&utm_medium=email&utm_term=0_5068cbfecc-ffac3c5d99-354709626&mc_cid=
 ffac3c5d99&mc_eid=7c8785d335
ORGANIZER;CN=;SENT-BY="mailto:":
SEQUENCE:0
SUMMARY:SCCHWA: Understanding Lung Cancer Screening Webinar
UID:a8f5f5c9-693f-4c16-b899-df026029621e
END:VEVENT
END:VCALENDAR
